BEGIN:VCALENDAR
VERSION:2.0
PRODID:-//Masserac - ECPv6.15.14//NONSGML v1.0//EN
CALSCALE:GREGORIAN
METHOD:PUBLISH
X-ORIGINAL-URL:https://masserac.bzh
X-WR-CALDESC:Évènements pour Masserac
REFRESH-INTERVAL;VALUE=DURATION:PT1H
X-Robots-Tag:noindex
X-PUBLISHED-TTL:PT1H
BEGIN:VTIMEZONE
TZID:Europe/Paris
BEGIN:DAYLIGHT
TZOFFSETFROM:+0100
TZOFFSETTO:+0200
TZNAME:CEST
DTSTART:20250330T010000
END:DAYLIGHT
BEGIN:STANDARD
TZOFFSETFROM:+0200
TZOFFSETTO:+0100
TZNAME:CET
DTSTART:20251026T010000
END:STANDARD
BEGIN:DAYLIGHT
TZOFFSETFROM:+0100
TZOFFSETTO:+0200
TZNAME:CEST
DTSTART:20260329T010000
END:DAYLIGHT
BEGIN:STANDARD
TZOFFSETFROM:+0200
TZOFFSETTO:+0100
TZNAME:CET
DTSTART:20261025T010000
END:STANDARD
BEGIN:DAYLIGHT
TZOFFSETFROM:+0100
TZOFFSETTO:+0200
TZNAME:CEST
DTSTART:20270328T010000
END:DAYLIGHT
BEGIN:STANDARD
TZOFFSETFROM:+0200
TZOFFSETTO:+0100
TZNAME:CET
DTSTART:20271031T010000
END:STANDARD
END:VTIMEZONE
BEGIN:VEVENT
DTSTART;TZID=Europe/Paris:20260324T103000
DTEND;TZID=Europe/Paris:20260324T160000
DTSTAMP:20260420T004033
CREATED:20260309T131651Z
LAST-MODIFIED:20260309T131844Z
UID:8315-1774348200-1774368000@masserac.bzh
SUMMARY:Mars Bleu\, mois de sensibilisation au dépistage du cancer colorectal
DESCRIPTION:
URL:https://masserac.bzh/evenement/mars-bleu-mois-de-sensibilisation-au-depistage-du-cancer-colorectal/
CATEGORIES:Masserac
END:VEVENT
END:VCALENDAR