BEGIN:VCALENDAR
VERSION:2.0
PRODID:-//Masserac - ECPv6.15.14//NONSGML v1.0//EN
CALSCALE:GREGORIAN
METHOD:PUBLISH
X-WR-CALNAME:Masserac
X-ORIGINAL-URL:https://masserac.bzh
X-WR-CALDESC:Évènements pour Masserac
REFRESH-INTERVAL;VALUE=DURATION:PT1H
X-Robots-Tag:noindex
X-PUBLISHED-TTL:PT1H
BEGIN:VTIMEZONE
TZID:Europe/Paris
BEGIN:DAYLIGHT
TZOFFSETFROM:+0100
TZOFFSETTO:+0200
TZNAME:CEST
DTSTART:20250330T010000
END:DAYLIGHT
BEGIN:STANDARD
TZOFFSETFROM:+0200
TZOFFSETTO:+0100
TZNAME:CET
DTSTART:20251026T010000
END:STANDARD
BEGIN:DAYLIGHT
TZOFFSETFROM:+0100
TZOFFSETTO:+0200
TZNAME:CEST
DTSTART:20260329T010000
END:DAYLIGHT
BEGIN:STANDARD
TZOFFSETFROM:+0200
TZOFFSETTO:+0100
TZNAME:CET
DTSTART:20261025T010000
END:STANDARD
BEGIN:DAYLIGHT
TZOFFSETFROM:+0100
TZOFFSETTO:+0200
TZNAME:CEST
DTSTART:20270328T010000
END:DAYLIGHT
BEGIN:STANDARD
TZOFFSETFROM:+0200
TZOFFSETTO:+0100
TZNAME:CET
DTSTART:20271031T010000
END:STANDARD
END:VTIMEZONE
BEGIN:VEVENT
DTSTART;TZID=Europe/Paris:20260125T110000
DTEND;TZID=Europe/Paris:20260125T140000
DTSTAMP:20260419T143749
CREATED:20260122T083451Z
LAST-MODIFIED:20260122T084326Z
UID:8221-1769338800-1769349600@masserac.bzh
SUMMARY:RÉUNION PUBLIQUE ASSOCIATION DU FESTIVAL HISTORIQUE
DESCRIPTION:
URL:https://masserac.bzh/evenement/reunion-publique-association-du-festival-historique/
ATTACH;FMTTYPE=image/jpeg:https://masserac.bzh/wp-content/uploads/sites/12/2026/01/AfficheMasserac1408_FLYER25012026_Basev2-scaled.jpg
END:VEVENT
END:VCALENDAR